BEGIN:VCALENDAR
VERSION:2.0
PRODID:-//Parroquia San Juan Bosco - ECPv5.14.2.1//NONSGML v1.0//EN
CALSCALE:GREGORIAN
METHOD:PUBLISH
X-WR-CALNAME:Parroquia San Juan Bosco
X-ORIGINAL-URL:https://parroquiasanjuanbosco.do
X-WR-CALDESC:Events for Parroquia San Juan Bosco
REFRESH-INTERVAL;VALUE=DURATION:PT1H
X-Robots-Tag:noindex
X-PUBLISHED-TTL:PT1H
BEGIN:VTIMEZONE
TZID:UTC
BEGIN:STANDARD
TZOFFSETFROM:+0000
TZOFFSETTO:+0000
TZNAME:UTC
DTSTART:20240101T000000
END:STANDARD
END:VTIMEZONE
BEGIN:VEVENT
DTSTART;TZID=UTC:20240210T103000
DTEND;TZID=UTC:20240210T140000
DTSTAMP:20260420T065044
CREATED:20240206T132601Z
LAST-MODIFIED:20240206T132601Z
UID:3989-1707561000-1707573600@parroquiasanjuanbosco.do
SUMMARY:Misa por los enfermos
DESCRIPTION:Orar por los enfermos es una obra de misericordia.
URL:https://parroquiasanjuanbosco.do/event/misa-por-los-enfermos/
LOCATION:Parroquia Don Bosco\, Calle San Juan Bosco esquina Dr. Delgado\, San Juan Bosco\, Santo Domingo\, Distrito Nacional\, 10201\, República Dominicana
END:VEVENT
BEGIN:VEVENT
DTSTART;TZID=UTC:20240210T180000
DTEND;TZID=UTC:20240210T193000
DTSTAMP:20260420T065044
CREATED:20240206T133539Z
LAST-MODIFIED:20240206T133539Z
UID:3993-1707588000-1707593400@parroquiasanjuanbosco.do
SUMMARY:Visita del Rector Mayor
DESCRIPTION:Card. Ángel Fernandez Artime\, X sucesor de Don Bosco.
URL:https://parroquiasanjuanbosco.do/event/visita-del-rector-mayor/
LOCATION:Parroquia Don Bosco\, Calle San Juan Bosco esquina Dr. Delgado\, San Juan Bosco\, Santo Domingo\, Distrito Nacional\, 10201\, República Dominicana
CATEGORIES:misas
END:VEVENT
END:VCALENDAR