BEGIN:VCALENDAR
VERSION:2.0
PRODID:-//Parroquia San Juan Bosco - ECPv5.14.2.1//NONSGML v1.0//EN
CALSCALE:GREGORIAN
METHOD:PUBLISH
X-WR-CALNAME:Parroquia San Juan Bosco
X-ORIGINAL-URL:https://parroquiasanjuanbosco.do
X-WR-CALDESC:Events for Parroquia San Juan Bosco
REFRESH-INTERVAL;VALUE=DURATION:PT1H
X-Robots-Tag:noindex
X-PUBLISHED-TTL:PT1H
BEGIN:VTIMEZONE
TZID:UTC
BEGIN:STANDARD
TZOFFSETFROM:+0000
TZOFFSETTO:+0000
TZNAME:UTC
DTSTART:20220101T000000
END:STANDARD
END:VTIMEZONE
BEGIN:VEVENT
DTSTART;VALUE=DATE:20221203
DTEND;VALUE=DATE:20221204
DTSTAMP:20260420T141727
CREATED:20221026T184512Z
LAST-MODIFIED:20221026T184512Z
UID:3143-1670025600-1670111999@parroquiasanjuanbosco.do
SUMMARY:Retiro Trimestral
DESCRIPTION:
URL:https://parroquiasanjuanbosco.do/event/retiro-trimestral-3/
LOCATION:Parroquia Don Bosco\, Calle San Juan Bosco esquina Dr. Delgado\, San Juan Bosco\, Santo Domingo\, Distrito Nacional\, 10201\, República Dominicana
ATTACH;FMTTYPE=image/jpeg:https://parroquiasanjuanbosco.do/wp-content/uploads/2022/10/AdobeStock_122829971.jpg
END:VEVENT
BEGIN:VEVENT
DTSTART;VALUE=DATE:20221204
DTEND;VALUE=DATE:20221205
DTSTAMP:20260420T141727
CREATED:20221026T184752Z
LAST-MODIFIED:20221026T184752Z
UID:3146-1670112000-1670198399@parroquiasanjuanbosco.do
SUMMARY:II DOMINGO DE ADVIENTO
DESCRIPTION:
URL:https://parroquiasanjuanbosco.do/event/ii-domingo-de-adviento/
LOCATION:Parroquia Don Bosco\, Calle San Juan Bosco esquina Dr. Delgado\, San Juan Bosco\, Santo Domingo\, Distrito Nacional\, 10201\, República Dominicana
ATTACH;FMTTYPE=image/png:https://parroquiasanjuanbosco.do/wp-content/uploads/2022/10/2.png
END:VEVENT
BEGIN:VEVENT
DTSTART;VALUE=DATE:20221208
DTEND;VALUE=DATE:20221209
DTSTAMP:20260420T141727
CREATED:20221026T184850Z
LAST-MODIFIED:20221026T184850Z
UID:3149-1670457600-1670543999@parroquiasanjuanbosco.do
SUMMARY:Solemnidad de la Inmaculada Concepción.
DESCRIPTION:
URL:https://parroquiasanjuanbosco.do/event/solemnidad-de-la-inmaculada-concepcion/
LOCATION:Parroquia Don Bosco\, Calle San Juan Bosco esquina Dr. Delgado\, San Juan Bosco\, Santo Domingo\, Distrito Nacional\, 10201\, República Dominicana
ATTACH;FMTTYPE=image/jpeg:https://parroquiasanjuanbosco.do/wp-content/uploads/2022/10/InmaculadaConcepcion_SanFelipeNeri071218.jpg
END:VEVENT
BEGIN:VEVENT
DTSTART;VALUE=DATE:20221210
DTEND;VALUE=DATE:20221211
DTSTAMP:20260420T141727
CREATED:20221026T185006Z
LAST-MODIFIED:20221026T185006Z
UID:3152-1670630400-1670716799@parroquiasanjuanbosco.do
SUMMARY:Encuentro Nacional ADS
DESCRIPTION:
URL:https://parroquiasanjuanbosco.do/event/encuentro-nacional-ads/
LOCATION:Parroquia Don Bosco\, Calle San Juan Bosco esquina Dr. Delgado\, San Juan Bosco\, Santo Domingo\, Distrito Nacional\, 10201\, República Dominicana
ATTACH;FMTTYPE=image/jpeg:https://parroquiasanjuanbosco.do/wp-content/uploads/2022/10/Dom-Savio.jpg
END:VEVENT
BEGIN:VEVENT
DTSTART;VALUE=DATE:20221211
DTEND;VALUE=DATE:20221212
DTSTAMP:20260420T141727
CREATED:20221026T185126Z
LAST-MODIFIED:20221026T185126Z
UID:3155-1670716800-1670803199@parroquiasanjuanbosco.do
SUMMARY:III DOMINGO DE ADVIENTO.
DESCRIPTION:
URL:https://parroquiasanjuanbosco.do/event/iii-domingo-de-adviento/
LOCATION:Parroquia Don Bosco\, Calle San Juan Bosco esquina Dr. Delgado\, San Juan Bosco\, Santo Domingo\, Distrito Nacional\, 10201\, República Dominicana
ATTACH;FMTTYPE=image/png:https://parroquiasanjuanbosco.do/wp-content/uploads/2022/10/3-1.png
END:VEVENT
BEGIN:VEVENT
DTSTART;VALUE=DATE:20221212
DTEND;VALUE=DATE:20221213
DTSTAMP:20260420T141727
CREATED:20221026T185154Z
LAST-MODIFIED:20221026T185154Z
UID:3160-1670803200-1670889599@parroquiasanjuanbosco.do
SUMMARY:NUESTRA SEÑORA DE GUADALUPE
DESCRIPTION:
URL:https://parroquiasanjuanbosco.do/event/nuestra-senora-de-guadalupe/
LOCATION:Parroquia Don Bosco\, Calle San Juan Bosco esquina Dr. Delgado\, San Juan Bosco\, Santo Domingo\, Distrito Nacional\, 10201\, República Dominicana
ATTACH;FMTTYPE=image/jpeg:https://parroquiasanjuanbosco.do/wp-content/uploads/2022/10/guadalupe_wallpaper_003.jpg
END:VEVENT
BEGIN:VEVENT
DTSTART;VALUE=DATE:20221214
DTEND;VALUE=DATE:20221225
DTSTAMP:20260420T141727
CREATED:20221026T185330Z
LAST-MODIFIED:20221026T185330Z
UID:3163-1670976000-1671926399@parroquiasanjuanbosco.do
SUMMARY:NOVENA DE NAVIDAD
DESCRIPTION:
URL:https://parroquiasanjuanbosco.do/event/novena-de-navidad/
LOCATION:Parroquia Don Bosco\, Calle San Juan Bosco esquina Dr. Delgado\, San Juan Bosco\, Santo Domingo\, Distrito Nacional\, 10201\, República Dominicana
ATTACH;FMTTYPE=image/jpeg:https://parroquiasanjuanbosco.do/wp-content/uploads/2022/10/6a611e38d4b199f51673cd6921684a8e.jpg
END:VEVENT
BEGIN:VEVENT
DTSTART;VALUE=DATE:20221218
DTEND;VALUE=DATE:20221219
DTSTAMP:20260420T141727
CREATED:20221026T185352Z
LAST-MODIFIED:20221026T185352Z
UID:3166-1671321600-1671407999@parroquiasanjuanbosco.do
SUMMARY:IV DOMINGO DE ADVIENTO.
DESCRIPTION:
URL:https://parroquiasanjuanbosco.do/event/iv-domingo-de-adviento/
LOCATION:Parroquia Don Bosco\, Calle San Juan Bosco esquina Dr. Delgado\, San Juan Bosco\, Santo Domingo\, Distrito Nacional\, 10201\, República Dominicana
ATTACH;FMTTYPE=image/jpeg:https://parroquiasanjuanbosco.do/wp-content/uploads/2022/10/p012wlgq.jpg
END:VEVENT
BEGIN:VEVENT
DTSTART;VALUE=DATE:20221225
DTEND;VALUE=DATE:20221226
DTSTAMP:20260420T141727
CREATED:20221026T185448Z
LAST-MODIFIED:20221026T185448Z
UID:3169-1671926400-1672012799@parroquiasanjuanbosco.do
SUMMARY:SLEMNIDAD DE LA NATIVIDAD DEL SEÑOR
DESCRIPTION:
URL:https://parroquiasanjuanbosco.do/event/slemnidad-de-la-natividad-del-senor/
LOCATION:Parroquia Don Bosco\, Calle San Juan Bosco esquina Dr. Delgado\, San Juan Bosco\, Santo Domingo\, Distrito Nacional\, 10201\, República Dominicana
ATTACH;FMTTYPE=image/jpeg:https://parroquiasanjuanbosco.do/wp-content/uploads/2022/10/miniatjura-119.jpg
END:VEVENT
BEGIN:VEVENT
DTSTART;VALUE=DATE:20221226
DTEND;VALUE=DATE:20221227
DTSTAMP:20260420T141727
CREATED:20221026T185551Z
LAST-MODIFIED:20221026T185551Z
UID:3172-1672012800-1672099199@parroquiasanjuanbosco.do
SUMMARY:Asamblea de Hermanos
DESCRIPTION:
URL:https://parroquiasanjuanbosco.do/event/asamblea-de-hermanos/
LOCATION:Parroquia Don Bosco\, Calle San Juan Bosco esquina Dr. Delgado\, San Juan Bosco\, Santo Domingo\, Distrito Nacional\, 10201\, República Dominicana
ATTACH;FMTTYPE=image/jpeg:https://parroquiasanjuanbosco.do/wp-content/uploads/2022/10/don-bosco-1068x601-1.jpg
END:VEVENT
BEGIN:VEVENT
DTSTART;VALUE=DATE:20221230
DTEND;VALUE=DATE:20221231
DTSTAMP:20260420T141727
CREATED:20221026T185630Z
LAST-MODIFIED:20221026T185630Z
UID:3175-1672358400-1672444799@parroquiasanjuanbosco.do
SUMMARY:SAGRADA FAMILIA DE NAZARET
DESCRIPTION:
URL:https://parroquiasanjuanbosco.do/event/sagrada-familia-de-nazaret/
LOCATION:Parroquia Don Bosco\, Calle San Juan Bosco esquina Dr. Delgado\, San Juan Bosco\, Santo Domingo\, Distrito Nacional\, 10201\, República Dominicana
ATTACH;FMTTYPE=image/jpeg:https://parroquiasanjuanbosco.do/wp-content/uploads/2022/10/Three-Hearts-Holy-Family-Consecration-for-Our-Times-.jpg
END:VEVENT
END:VCALENDAR