BEGIN:VCALENDAR
VERSION:2.0
PRODID:-//Parroquia San Juan Bosco - ECPv5.14.2.1//NONSGML v1.0//EN
CALSCALE:GREGORIAN
METHOD:PUBLISH
X-WR-CALNAME:Parroquia San Juan Bosco
X-ORIGINAL-URL:https://parroquiasanjuanbosco.do
X-WR-CALDESC:Events for Parroquia San Juan Bosco
REFRESH-INTERVAL;VALUE=DURATION:PT1H
X-Robots-Tag:noindex
X-PUBLISHED-TTL:PT1H
BEGIN:VTIMEZONE
TZID:UTC
BEGIN:STANDARD
TZOFFSETFROM:+0000
TZOFFSETTO:+0000
TZNAME:UTC
DTSTART:20230101T000000
END:STANDARD
END:VTIMEZONE
BEGIN:VEVENT
DTSTART;TZID=UTC:20230511T190000
DTEND;TZID=UTC:20230803T203000
DTSTAMP:20260421T003756
CREATED:20230510T202520Z
LAST-MODIFIED:20230510T202520Z
UID:3251-1683831600-1691094600@parroquiasanjuanbosco.do
SUMMARY:Inicio Talleres Dominicana se transforma
DESCRIPTION:Dominicana Se Transforma es la expresión local de la iniciativa Transformación País de Maxwell Leadership Foundation. Creemos que apostar al crecimiento personal de nuestra gente\, al cultivar un liderazgo transformacional basado en buenos valores y habilidades blandas\, impulsará a nuestra nación en una dirección que todos anhelamos. \nHemos diseñado programas basados en la metodología de mesas redondas\, la cual ha sido aplicada en algunas de las universidades más reputadas del mundo con sobrado éxito. Nuestros programas ya han impactado millones de vidas en países que han abrazado esta iniciativa desde el 2003. \nComo nuestro objetivo es nacional\, nos proponemos alcanzar todos los rincones de nuestro territorio\, así como todas las clases sociales\, intereses\, credos\, etc.\, con el firme propósito de fomentar un ambiente colaborativo de crecimiento mutuo.
URL:https://parroquiasanjuanbosco.do/event/inicio-talleres-dominicana-se-transforma/
LOCATION:Parroquia Don Bosco\, Calle San Juan Bosco esquina Dr. Delgado\, San Juan Bosco\, Santo Domingo\, Distrito Nacional\, 10201\, República Dominicana
ATTACH;FMTTYPE=image/jpeg:https://parroquiasanjuanbosco.do/wp-content/uploads/2023/05/Dominicana-se-transforma.jpeg
END:VEVENT
BEGIN:VEVENT
DTSTART;TZID=UTC:20230608T160000
DTEND;TZID=UTC:20230608T183000
DTSTAMP:20260421T003756
CREATED:20230601T185158Z
LAST-MODIFIED:20230601T185331Z
UID:3555-1686240000-1686249000@parroquiasanjuanbosco.do
SUMMARY:Encuentro Vicarial de Corpus Christi\, Vicaría Sur\, Arquidiócesis de Santo Domingo
DESCRIPTION:Juves 8 de Junio.  Encuentro Vicarial de Corpus Christi\, Vicaría Sur\, Zona Colonial\, Central e Independencia. Arquidiócesis de Santo Domingo
URL:https://parroquiasanjuanbosco.do/event/3555/
LOCATION:Colegio san Juan Bautista\, Calle Caonabo\, Santo Domingo 10407\, Santo Domingo\, D.N.\, Distrito Nacional\, 10407\, República Dominicana
ATTACH;FMTTYPE=image/jpeg:https://parroquiasanjuanbosco.do/wp-content/uploads/2023/06/WhatsApp-Image-2023-06-01-at-9.13.13-AM-1.jpeg
END:VEVENT
BEGIN:VEVENT
DTSTART;TZID=UTC:20230616T173000
DTEND;TZID=UTC:20230616T190000
DTSTAMP:20260421T003756
CREATED:20230614T193058Z
LAST-MODIFIED:20230614T193058Z
UID:3574-1686936600-1686942000@parroquiasanjuanbosco.do
SUMMARY:Solemnidad Sagrado Corazón de Jesús
DESCRIPTION:
URL:https://parroquiasanjuanbosco.do/event/solemnidad-sagrado-corazon-de-jesus/
LOCATION:Parroquia Don Bosco\, Calle San Juan Bosco esquina Dr. Delgado\, San Juan Bosco\, Santo Domingo\, Distrito Nacional\, 10201\, República Dominicana
CATEGORIES:misas
ATTACH;FMTTYPE=image/jpeg:https://parroquiasanjuanbosco.do/wp-content/uploads/2023/06/Sagrado-Corazon-de-Js.jpeg
END:VEVENT
BEGIN:VEVENT
DTSTART;TZID=UTC:20240122T183000
DTEND;TZID=UTC:20240122T200000
DTSTAMP:20260421T003756
CREATED:20240130T233747Z
LAST-MODIFIED:20240130T234424Z
UID:3809-1705948200-1705953600@parroquiasanjuanbosco.do
SUMMARY:1er. Día Novena "De Lobos a Corderos"
DESCRIPTION:
URL:https://parroquiasanjuanbosco.do/event/1er-dia-novena-de-lobos-a-corderos/
LOCATION:Parroquia Don Bosco\, Calle San Juan Bosco esquina Dr. Delgado\, San Juan Bosco\, Santo Domingo\, Distrito Nacional\, 10201\, República Dominicana
CATEGORIES:misas
ATTACH;FMTTYPE=image/jpeg:https://parroquiasanjuanbosco.do/wp-content/uploads/2024/01/WhatsApp-Image-2024-01-26-at-7.25.13-PM.jpeg
ORGANIZER;CN="P%C3%A1rroco":MAILTO:parroco@parroquiasanjuanbosco.do
END:VEVENT
BEGIN:VEVENT
DTSTART;TZID=UTC:20240122T183000
DTEND;TZID=UTC:20240131T200000
DTSTAMP:20260421T003756
CREATED:20240130T231457Z
LAST-MODIFIED:20240130T231457Z
UID:3806-1705948200-1706731200@parroquiasanjuanbosco.do
SUMMARY:Patronales Don Bosco 2024
DESCRIPTION:
URL:https://parroquiasanjuanbosco.do/event/patronales-don-bosco-2024/
LOCATION:Parroquia Don Bosco\, Calle San Juan Bosco esquina Dr. Delgado\, San Juan Bosco\, Santo Domingo\, Distrito Nacional\, 10201\, República Dominicana
ATTACH;FMTTYPE=image/png:https://parroquiasanjuanbosco.do/wp-content/uploads/2024/01/imagen_2024-01-30_191404322.png
ORGANIZER;CN="P%C3%A1rroco":MAILTO:parroco@parroquiasanjuanbosco.do
END:VEVENT
BEGIN:VEVENT
DTSTART;TZID=UTC:20240124T183000
DTEND;TZID=UTC:20240124T200000
DTSTAMP:20260421T003756
CREATED:20240130T235417Z
LAST-MODIFIED:20240131T000342Z
UID:3822-1706121000-1706126400@parroquiasanjuanbosco.do
SUMMARY:3er. Día Novena "Las Raíces del Corazón que Sueña"
DESCRIPTION:
URL:https://parroquiasanjuanbosco.do/event/3er-dia-novena-las-raices-del-corazon-que-suena/
LOCATION:Parroquia Don Bosco\, Calle San Juan Bosco esquina Dr. Delgado\, San Juan Bosco\, Santo Domingo\, Distrito Nacional\, 10201\, República Dominicana
CATEGORIES:misas
ATTACH;FMTTYPE=image/jpeg:https://parroquiasanjuanbosco.do/wp-content/uploads/2024/01/WhatsApp-Image-2024-01-26-at-7.25.11-PM-1.jpeg
ORGANIZER;CN="P%C3%A1rroco":MAILTO:parroco@parroquiasanjuanbosco.do
END:VEVENT
BEGIN:VEVENT
DTSTART;TZID=UTC:20240125T183000
DTEND;TZID=UTC:20240125T200000
DTSTAMP:20260421T003756
CREATED:20240131T000312Z
LAST-MODIFIED:20240131T001603Z
UID:3832-1706207400-1706212800@parroquiasanjuanbosco.do
SUMMARY:4to. Día Novena "Dejarnos Contagiar por su Sueño"
DESCRIPTION:
URL:https://parroquiasanjuanbosco.do/event/4to-dia-novena-dejarnos-contagiar-por-su-sueno/
LOCATION:Parroquia Don Bosco\, Calle San Juan Bosco esquina Dr. Delgado\, San Juan Bosco\, Santo Domingo\, Distrito Nacional\, 10201\, República Dominicana
CATEGORIES:misas
ATTACH;FMTTYPE=image/jpeg:https://parroquiasanjuanbosco.do/wp-content/uploads/2024/01/WhatsApp-Image-2024-01-26-at-7.25.06-PM-2.jpeg
ORGANIZER;CN="P%C3%A1rroco":MAILTO:parroco@parroquiasanjuanbosco.do
END:VEVENT
BEGIN:VEVENT
DTSTART;TZID=UTC:20240126T183000
DTEND;TZID=UTC:20240126T200000
DTSTAMP:20260421T003756
CREATED:20240131T001551Z
LAST-MODIFIED:20240131T001551Z
UID:3849-1706293800-1706299200@parroquiasanjuanbosco.do
SUMMARY:5to. Día Novena "Los Sueños de un Corazón Enamorado"
DESCRIPTION:
URL:https://parroquiasanjuanbosco.do/event/5to-dia-novena-los-suenos-de-un-corazon-enamorado/
LOCATION:Parroquia Don Bosco\, Calle San Juan Bosco esquina Dr. Delgado\, San Juan Bosco\, Santo Domingo\, Distrito Nacional\, 10201\, República Dominicana
CATEGORIES:misas
ORGANIZER;CN="P%C3%A1rroco":MAILTO:parroco@parroquiasanjuanbosco.do
END:VEVENT
BEGIN:VEVENT
DTSTART;TZID=UTC:20240127T183000
DTEND;TZID=UTC:20240127T200000
DTSTAMP:20260421T003756
CREATED:20240131T002720Z
LAST-MODIFIED:20240131T003730Z
UID:3863-1706380200-1706385600@parroquiasanjuanbosco.do
SUMMARY:6to. Día Novena "La Familia de un Soñador"
DESCRIPTION:
URL:https://parroquiasanjuanbosco.do/event/6to-dia-novena-la-familia-de-un-sonador/
LOCATION:Parroquia Don Bosco\, Calle San Juan Bosco esquina Dr. Delgado\, San Juan Bosco\, Santo Domingo\, Distrito Nacional\, 10201\, República Dominicana
CATEGORIES:misas
ATTACH;FMTTYPE=image/jpeg:https://parroquiasanjuanbosco.do/wp-content/uploads/2024/01/WhatsApp-Image-2024-01-29-at-2.15.44-PM.jpeg
ORGANIZER;CN="P%C3%A1rroco":MAILTO:parroco@parroquiasanjuanbosco.do
END:VEVENT
BEGIN:VEVENT
DTSTART;TZID=UTC:20240128T093000
DTEND;TZID=UTC:20240128T200000
DTSTAMP:20260421T003756
CREATED:20240131T003627Z
LAST-MODIFIED:20240131T003627Z
UID:3879-1706434200-1706472000@parroquiasanjuanbosco.do
SUMMARY:7mo. Día Novena "Soñar en Comunidad"
DESCRIPTION:
URL:https://parroquiasanjuanbosco.do/event/7mo-dia-novena-sonar-en-comunidad/
LOCATION:Parroquia Don Bosco\, Calle San Juan Bosco esquina Dr. Delgado\, San Juan Bosco\, Santo Domingo\, Distrito Nacional\, 10201\, República Dominicana
CATEGORIES:misas
ATTACH;FMTTYPE=image/jpeg:https://parroquiasanjuanbosco.do/wp-content/uploads/2024/01/WhatsApp-Image-2024-01-29-at-2.17.37-PM.jpeg
ORGANIZER;CN="P%C3%A1rroco":MAILTO:parroco@parroquiasanjuanbosco.do
END:VEVENT
BEGIN:VEVENT
DTSTART;TZID=UTC:20240210T103000
DTEND;TZID=UTC:20240210T140000
DTSTAMP:20260421T003757
CREATED:20240206T132601Z
LAST-MODIFIED:20240206T132601Z
UID:3989-1707561000-1707573600@parroquiasanjuanbosco.do
SUMMARY:Misa por los enfermos
DESCRIPTION:Orar por los enfermos es una obra de misericordia.
URL:https://parroquiasanjuanbosco.do/event/misa-por-los-enfermos/
LOCATION:Parroquia Don Bosco\, Calle San Juan Bosco esquina Dr. Delgado\, San Juan Bosco\, Santo Domingo\, Distrito Nacional\, 10201\, República Dominicana
END:VEVENT
BEGIN:VEVENT
DTSTART;TZID=UTC:20240210T180000
DTEND;TZID=UTC:20240210T193000
DTSTAMP:20260421T003757
CREATED:20240206T133539Z
LAST-MODIFIED:20240206T133539Z
UID:3993-1707588000-1707593400@parroquiasanjuanbosco.do
SUMMARY:Visita del Rector Mayor
DESCRIPTION:Card. Ángel Fernandez Artime\, X sucesor de Don Bosco.
URL:https://parroquiasanjuanbosco.do/event/visita-del-rector-mayor/
LOCATION:Parroquia Don Bosco\, Calle San Juan Bosco esquina Dr. Delgado\, San Juan Bosco\, Santo Domingo\, Distrito Nacional\, 10201\, República Dominicana
CATEGORIES:misas
END:VEVENT
END:VCALENDAR