BEGIN:VCALENDAR
VERSION:2.0
PRODID:-//Parroquia San Juan Bosco - ECPv5.14.2.1//NONSGML v1.0//EN
CALSCALE:GREGORIAN
METHOD:PUBLISH
X-WR-CALNAME:Parroquia San Juan Bosco
X-ORIGINAL-URL:https://parroquiasanjuanbosco.do
X-WR-CALDESC:Events for Parroquia San Juan Bosco
REFRESH-INTERVAL;VALUE=DURATION:PT1H
X-Robots-Tag:noindex
X-PUBLISHED-TTL:PT1H
BEGIN:VTIMEZONE
TZID:UTC
BEGIN:STANDARD
TZOFFSETFROM:+0000
TZOFFSETTO:+0000
TZNAME:UTC
DTSTART:20220101T000000
END:STANDARD
END:VTIMEZONE
BEGIN:VEVENT
DTSTART;VALUE=DATE:20221001
DTEND;VALUE=DATE:20221101
DTSTAMP:20260421T153659
CREATED:20220906T200432Z
LAST-MODIFIED:20220906T200432Z
UID:2970-1664582400-1667260799@parroquiasanjuanbosco.do
SUMMARY:Octubre: Mes del rosario
DESCRIPTION:
URL:https://parroquiasanjuanbosco.do/event/octubre-mes-del-rosario/
LOCATION:Parroquia Don Bosco\, Calle San Juan Bosco esquina Dr. Delgado\, San Juan Bosco\, Santo Domingo\, Distrito Nacional\, 10201\, República Dominicana
ATTACH;FMTTYPE=image/jpeg:https://parroquiasanjuanbosco.do/wp-content/uploads/2022/09/formacao_como-rezar-o-terco.jpg
END:VEVENT
BEGIN:VEVENT
DTSTART;TZID=UTC:20221001T000000
DTEND;TZID=UTC:20221031T000000
DTSTAMP:20260421T153659
CREATED:20220930T211747Z
LAST-MODIFIED:20220930T211747Z
UID:3003-1664582400-1667174400@parroquiasanjuanbosco.do
SUMMARY:Octubre: Mes del rosario
DESCRIPTION:
URL:https://parroquiasanjuanbosco.do/event/octubre-mes-del-rosario-2/
LOCATION:Parroquia Don Bosco\, Calle San Juan Bosco esquina Dr. Delgado\, San Juan Bosco\, Santo Domingo\, Distrito Nacional\, 10201\, República Dominicana
ATTACH;FMTTYPE=image/jpeg:https://parroquiasanjuanbosco.do/wp-content/uploads/2022/09/2171455.jpeg
END:VEVENT
BEGIN:VEVENT
DTSTART;VALUE=DATE:20221015
DTEND;VALUE=DATE:20221016
DTSTAMP:20260421T153659
CREATED:20220930T212414Z
LAST-MODIFIED:20220930T212414Z
UID:3021-1665792000-1665878399@parroquiasanjuanbosco.do
SUMMARY:Formación del Equipo de Comunidades a las 9:00 am en Don Bosco
DESCRIPTION:
URL:https://parroquiasanjuanbosco.do/event/formacion-del-equipo-de-comunidades-a-las-900-am-en-don-bosco/
LOCATION:Parroquia Don Bosco\, Calle San Juan Bosco esquina Dr. Delgado\, San Juan Bosco\, Santo Domingo\, Distrito Nacional\, 10201\, República Dominicana
ATTACH;FMTTYPE=image/jpeg:https://parroquiasanjuanbosco.do/wp-content/uploads/2022/09/bible-WEB.jpg
END:VEVENT
BEGIN:VEVENT
DTSTART;VALUE=DATE:20221016
DTEND;VALUE=DATE:20221017
DTSTAMP:20260421T153659
CREATED:20220930T212523Z
LAST-MODIFIED:20220930T212523Z
UID:3023-1665878400-1665964799@parroquiasanjuanbosco.do
SUMMARY:XXIX DOMINGO TO
DESCRIPTION:
URL:https://parroquiasanjuanbosco.do/event/xxix-domingo-to/
LOCATION:Parroquia Don Bosco\, Calle San Juan Bosco esquina Dr. Delgado\, San Juan Bosco\, Santo Domingo\, Distrito Nacional\, 10201\, República Dominicana
ATTACH;FMTTYPE=image/jpeg:https://parroquiasanjuanbosco.do/wp-content/uploads/2022/09/1374956_10151726523462462_330707209_n.jpg
END:VEVENT
BEGIN:VEVENT
DTSTART;VALUE=DATE:20221019
DTEND;VALUE=DATE:20221020
DTSTAMP:20260421T153659
CREATED:20220930T212616Z
LAST-MODIFIED:20220930T212616Z
UID:3026-1666137600-1666223999@parroquiasanjuanbosco.do
SUMMARY:Reunión párrocos salesianos
DESCRIPTION:
URL:https://parroquiasanjuanbosco.do/event/reunion-parrocos-salesianos/
LOCATION:Parroquia Don Bosco\, Calle San Juan Bosco esquina Dr. Delgado\, San Juan Bosco\, Santo Domingo\, Distrito Nacional\, 10201\, República Dominicana
ATTACH;FMTTYPE=image/jpeg:https://parroquiasanjuanbosco.do/wp-content/uploads/2022/09/027981ec990f556d8370a14e3e774061_L.jpg
END:VEVENT
BEGIN:VEVENT
DTSTART;VALUE=DATE:20221023
DTEND;VALUE=DATE:20221024
DTSTAMP:20260421T153659
CREATED:20220930T212919Z
LAST-MODIFIED:20220930T212919Z
UID:3029-1666483200-1666569599@parroquiasanjuanbosco.do
SUMMARY:XXX DOMINGO TO | Jornada del Domund.
DESCRIPTION:
URL:https://parroquiasanjuanbosco.do/event/xxx-domingo-to-jornada-del-domund/
LOCATION:Parroquia Don Bosco\, Calle San Juan Bosco esquina Dr. Delgado\, San Juan Bosco\, Santo Domingo\, Distrito Nacional\, 10201\, República Dominicana
ATTACH;FMTTYPE=image/jpeg:https://parroquiasanjuanbosco.do/wp-content/uploads/2022/09/download-3.jpg
END:VEVENT
BEGIN:VEVENT
DTSTART;VALUE=DATE:20221026
DTEND;VALUE=DATE:20221121
DTSTAMP:20260421T153659
CREATED:20221026T184147Z
LAST-MODIFIED:20221026T184147Z
UID:3131-1666742400-1668988799@parroquiasanjuanbosco.do
SUMMARY:. UN PASO POR MI FAMILIA | Jornada Mundial de la Juventud
DESCRIPTION:
URL:https://parroquiasanjuanbosco.do/event/un-paso-por-mi-familia-jornada-mundial-de-la-juventud/
LOCATION:Parroquia Don Bosco\, Calle San Juan Bosco esquina Dr. Delgado\, San Juan Bosco\, Santo Domingo\, Distrito Nacional\, 10201\, República Dominicana
ATTACH;FMTTYPE=image/jpeg:https://parroquiasanjuanbosco.do/wp-content/uploads/2022/10/whatsapp-image-2018-11-18-at-9-47_10913055_20181118111838.jpg
END:VEVENT
BEGIN:VEVENT
DTSTART;VALUE=DATE:20221026
DTEND;VALUE=DATE:20221129
DTSTAMP:20260421T153659
CREATED:20221026T184430Z
LAST-MODIFIED:20221026T184430Z
UID:3140-1666742400-1669679999@parroquiasanjuanbosco.do
SUMMARY:ENCUENTRO SACERDOTAL DE ADVIENTO
DESCRIPTION:
URL:https://parroquiasanjuanbosco.do/event/encuentro-sacerdotal-de-adviento/
LOCATION:Parroquia Don Bosco\, Calle San Juan Bosco esquina Dr. Delgado\, San Juan Bosco\, Santo Domingo\, Distrito Nacional\, 10201\, República Dominicana
ATTACH;FMTTYPE=image/jpeg:https://parroquiasanjuanbosco.do/wp-content/uploads/2022/10/415878.jpg
END:VEVENT
BEGIN:VEVENT
DTSTART;TZID=UTC:20221026T080000
DTEND;TZID=UTC:20221120T170000
DTSTAMP:20260421T153659
CREATED:20221026T184311Z
LAST-MODIFIED:20221026T184311Z
UID:3134-1666771200-1668963600@parroquiasanjuanbosco.do
SUMMARY:I DOMINGO DE ADVIENTO
DESCRIPTION:
URL:https://parroquiasanjuanbosco.do/event/i-domingo-de-adviento/
LOCATION:Parroquia Don Bosco\, Calle San Juan Bosco esquina Dr. Delgado\, San Juan Bosco\, Santo Domingo\, Distrito Nacional\, 10201\, República Dominicana
ATTACH;FMTTYPE=image/jpeg:https://parroquiasanjuanbosco.do/wp-content/uploads/2022/10/1er-domingo.jpg
END:VEVENT
BEGIN:VEVENT
DTSTART;VALUE=DATE:20221027
DTEND;VALUE=DATE:20221028
DTSTAMP:20260421T153659
CREATED:20220930T213010Z
LAST-MODIFIED:20220930T213010Z
UID:3032-1666828800-1666915199@parroquiasanjuanbosco.do
SUMMARY:Encuentro Coordinadores de Comunicación.
DESCRIPTION:
URL:https://parroquiasanjuanbosco.do/event/encuentro-coordinadores-de-comunicacion/
LOCATION:Parroquia Don Bosco\, Calle San Juan Bosco esquina Dr. Delgado\, San Juan Bosco\, Santo Domingo\, Distrito Nacional\, 10201\, República Dominicana
ATTACH;FMTTYPE=image/jpeg:https://parroquiasanjuanbosco.do/wp-content/uploads/2022/09/1500x1016bigstock-Communicate-Communication-Tele-85696685.jpg
END:VEVENT
BEGIN:VEVENT
DTSTART;VALUE=DATE:20221030
DTEND;VALUE=DATE:20221031
DTSTAMP:20260421T153659
CREATED:20220930T213303Z
LAST-MODIFIED:20220930T213303Z
UID:3035-1667088000-1667174399@parroquiasanjuanbosco.do
SUMMARY:XXXI DOMINGO TO. Caminata Mariana
DESCRIPTION:
URL:https://parroquiasanjuanbosco.do/event/xxxi-domingo-to-caminata-mariana/
LOCATION:Parroquia Don Bosco\, Calle San Juan Bosco esquina Dr. Delgado\, San Juan Bosco\, Santo Domingo\, Distrito Nacional\, 10201\, República Dominicana
ATTACH;FMTTYPE=image/jpeg:https://parroquiasanjuanbosco.do/wp-content/uploads/2022/09/maria.jpg
END:VEVENT
BEGIN:VEVENT
DTSTART;VALUE=DATE:20221101
DTEND;VALUE=DATE:20221201
DTSTAMP:20260421T153659
CREATED:20220930T213435Z
LAST-MODIFIED:20220930T213435Z
UID:3038-1667260800-1669852799@parroquiasanjuanbosco.do
SUMMARY:NOVIEMBRE: Mes de la Familia
DESCRIPTION:
URL:https://parroquiasanjuanbosco.do/event/noviembre-mes-de-la-familia/
LOCATION:Parroquia Don Bosco\, Calle San Juan Bosco esquina Dr. Delgado\, San Juan Bosco\, Santo Domingo\, Distrito Nacional\, 10201\, República Dominicana
ATTACH;FMTTYPE=image/jpeg:https://parroquiasanjuanbosco.do/wp-content/uploads/2022/09/Lentera-Keluarga-4-Agustus-2017.jpg
END:VEVENT
BEGIN:VEVENT
DTSTART;VALUE=DATE:20221101
DTEND;VALUE=DATE:20221102
DTSTAMP:20260421T153659
CREATED:20220930T213544Z
LAST-MODIFIED:20220930T213544Z
UID:3041-1667260800-1667347199@parroquiasanjuanbosco.do
SUMMARY:Misa de Acción de Gracias por la fundación de la Parroquia (83 aniversario).
DESCRIPTION:
URL:https://parroquiasanjuanbosco.do/event/misa-de-accion-de-gracias-por-la-fundacion-de-la-parroquia-83-aniversario/
LOCATION:Parroquia Don Bosco\, Calle San Juan Bosco esquina Dr. Delgado\, San Juan Bosco\, Santo Domingo\, Distrito Nacional\, 10201\, República Dominicana
ATTACH;FMTTYPE=image/jpeg:https://parroquiasanjuanbosco.do/wp-content/uploads/2022/09/download-4.jpg
END:VEVENT
BEGIN:VEVENT
DTSTART;VALUE=DATE:20221101
DTEND;VALUE=DATE:20221102
DTSTAMP:20260421T153659
CREATED:20220930T213645Z
LAST-MODIFIED:20220930T213645Z
UID:3044-1667260800-1667347199@parroquiasanjuanbosco.do
SUMMARY:Solemnidad de todos los santos
DESCRIPTION:
URL:https://parroquiasanjuanbosco.do/event/solemnidad-de-todos-los-santos/
LOCATION:Parroquia Don Bosco\, Calle San Juan Bosco esquina Dr. Delgado\, San Juan Bosco\, Santo Domingo\, Distrito Nacional\, 10201\, República Dominicana
ATTACH;FMTTYPE=image/jpeg:https://parroquiasanjuanbosco.do/wp-content/uploads/2022/09/DNiROqlX0AAqaZA.jpg
END:VEVENT
BEGIN:VEVENT
DTSTART;VALUE=DATE:20221102
DTEND;VALUE=DATE:20221103
DTSTAMP:20260421T153659
CREATED:20220930T213735Z
LAST-MODIFIED:20220930T213735Z
UID:3047-1667347200-1667433599@parroquiasanjuanbosco.do
SUMMARY:Solemnidad de los fieles difuntos
DESCRIPTION:
URL:https://parroquiasanjuanbosco.do/event/solemnidad-de-los-fieles-difuntos/
LOCATION:Parroquia Don Bosco\, Calle San Juan Bosco esquina Dr. Delgado\, San Juan Bosco\, Santo Domingo\, Distrito Nacional\, 10201\, República Dominicana
ATTACH;FMTTYPE=image/jpeg:https://parroquiasanjuanbosco.do/wp-content/uploads/2022/09/formacao_o-que-a-igreja-entende-por-paz.jpg
END:VEVENT
BEGIN:VEVENT
DTSTART;VALUE=DATE:20221105
DTEND;VALUE=DATE:20221106
DTSTAMP:20260421T153659
CREATED:20221026T182317Z
LAST-MODIFIED:20221026T182317Z
UID:3092-1667606400-1667692799@parroquiasanjuanbosco.do
SUMMARY:Encuentro de la familia salesiana. Memoria de los bienhechores difuntos
DESCRIPTION:
URL:https://parroquiasanjuanbosco.do/event/encuentro-de-la-familia-salesiana-memoria-de-los-bienhechores-difuntos/
LOCATION:Parroquia Don Bosco\, Calle San Juan Bosco esquina Dr. Delgado\, San Juan Bosco\, Santo Domingo\, Distrito Nacional\, 10201\, República Dominicana
ATTACH;FMTTYPE=image/jpeg:https://parroquiasanjuanbosco.do/wp-content/uploads/2022/10/High_resolution_wallpaper_background_ID_77701452227.jpg
END:VEVENT
BEGIN:VEVENT
DTSTART;VALUE=DATE:20221106
DTEND;VALUE=DATE:20221107
DTSTAMP:20260421T153659
CREATED:20221026T182451Z
LAST-MODIFIED:20221026T182451Z
UID:3095-1667692800-1667779199@parroquiasanjuanbosco.do
SUMMARY:XXXII DOMINGO TO 
DESCRIPTION:
URL:https://parroquiasanjuanbosco.do/event/xxxii-domingo-to/
LOCATION:Parroquia Don Bosco\, Calle San Juan Bosco esquina Dr. Delgado\, San Juan Bosco\, Santo Domingo\, Distrito Nacional\, 10201\, República Dominicana
ATTACH;FMTTYPE=image/jpeg:https://parroquiasanjuanbosco.do/wp-content/uploads/2022/10/predica-y-ensena-29.jpg
END:VEVENT
BEGIN:VEVENT
DTSTART;VALUE=DATE:20221106
DTEND;VALUE=DATE:20221107
DTSTAMP:20260421T153659
CREATED:20221026T182535Z
LAST-MODIFIED:20221026T182535Z
UID:3098-1667692800-1667779199@parroquiasanjuanbosco.do
SUMMARY:Renovación votos matrimoniales 0-10 años.
DESCRIPTION:
URL:https://parroquiasanjuanbosco.do/event/renovacion-votos-matrimoniales-0-10-anos/
LOCATION:Parroquia Don Bosco\, Calle San Juan Bosco esquina Dr. Delgado\, San Juan Bosco\, Santo Domingo\, Distrito Nacional\, 10201\, República Dominicana
ATTACH;FMTTYPE=image/jpeg:https://parroquiasanjuanbosco.do/wp-content/uploads/2022/10/bride-1837148_1920.jpg
END:VEVENT
BEGIN:VEVENT
DTSTART;VALUE=DATE:20221106
DTEND;VALUE=DATE:20221107
DTSTAMP:20260421T153659
CREATED:20221026T182621Z
LAST-MODIFIED:20221026T182621Z
UID:3101-1667692800-1667779199@parroquiasanjuanbosco.do
SUMMARY:Día del Catequista
DESCRIPTION:
URL:https://parroquiasanjuanbosco.do/event/dia-del-catequista/
LOCATION:Parroquia Don Bosco\, Calle San Juan Bosco esquina Dr. Delgado\, San Juan Bosco\, Santo Domingo\, Distrito Nacional\, 10201\, República Dominicana
ATTACH;FMTTYPE=image/jpeg:https://parroquiasanjuanbosco.do/wp-content/uploads/2022/10/ddddddd.jpg
END:VEVENT
BEGIN:VEVENT
DTSTART;VALUE=DATE:20221106
DTEND;VALUE=DATE:20221107
DTSTAMP:20260421T153659
CREATED:20221026T182822Z
LAST-MODIFIED:20221026T182822Z
UID:3107-1667692800-1667779199@parroquiasanjuanbosco.do
SUMMARY:Encuentro de la Familia Salesiana
DESCRIPTION:
URL:https://parroquiasanjuanbosco.do/event/encuentro-de-la-familia-salesiana/
LOCATION:Parroquia Don Bosco\, Calle San Juan Bosco esquina Dr. Delgado\, San Juan Bosco\, Santo Domingo\, Distrito Nacional\, 10201\, República Dominicana
ATTACH;FMTTYPE=image/jpeg:https://parroquiasanjuanbosco.do/wp-content/uploads/2022/10/50923.jpg
END:VEVENT
BEGIN:VEVENT
DTSTART;TZID=UTC:20221106T080000
DTEND;TZID=UTC:20221112T170000
DTSTAMP:20260421T153659
CREATED:20221026T182728Z
LAST-MODIFIED:20221026T182728Z
UID:3104-1667721600-1668272400@parroquiasanjuanbosco.do
SUMMARY:Semana Vocacional
DESCRIPTION:
URL:https://parroquiasanjuanbosco.do/event/semana-vocacional/
LOCATION:Parroquia Don Bosco\, Calle San Juan Bosco esquina Dr. Delgado\, San Juan Bosco\, Santo Domingo\, Distrito Nacional\, 10201\, República Dominicana
ATTACH;FMTTYPE=image/jpeg:https://parroquiasanjuanbosco.do/wp-content/uploads/2022/10/cathopic_1494516117156846-scaled-1.jpg
END:VEVENT
BEGIN:VEVENT
DTSTART;VALUE=DATE:20221112
DTEND;VALUE=DATE:20221113
DTSTAMP:20260421T153659
CREATED:20221026T182900Z
LAST-MODIFIED:20221026T182900Z
UID:3110-1668211200-1668297599@parroquiasanjuanbosco.do
SUMMARY:Convivencia familiar. JAMAR
DESCRIPTION:
URL:https://parroquiasanjuanbosco.do/event/convivencia-familiar-jamar/
LOCATION:Parroquia Don Bosco\, Calle San Juan Bosco esquina Dr. Delgado\, San Juan Bosco\, Santo Domingo\, Distrito Nacional\, 10201\, República Dominicana
ATTACH;FMTTYPE=image/jpeg:https://parroquiasanjuanbosco.do/wp-content/uploads/2022/10/siua-insurance01.jpg
END:VEVENT
BEGIN:VEVENT
DTSTART;VALUE=DATE:20221113
DTEND;VALUE=DATE:20221114
DTSTAMP:20260421T153659
CREATED:20221026T183033Z
LAST-MODIFIED:20221026T183033Z
UID:3113-1668297600-1668383999@parroquiasanjuanbosco.do
SUMMARY:XXXIII DOMINGO TO
DESCRIPTION:
URL:https://parroquiasanjuanbosco.do/event/xxxiii-domingo-to/
LOCATION:Parroquia Don Bosco\, Calle San Juan Bosco esquina Dr. Delgado\, San Juan Bosco\, Santo Domingo\, Distrito Nacional\, 10201\, República Dominicana
ATTACH;FMTTYPE=image/png:https://parroquiasanjuanbosco.do/wp-content/uploads/2022/10/jsd.png
END:VEVENT
BEGIN:VEVENT
DTSTART;VALUE=DATE:20221113
DTEND;VALUE=DATE:20221114
DTSTAMP:20260421T153659
CREATED:20221026T183146Z
LAST-MODIFIED:20221026T183146Z
UID:3116-1668297600-1668383999@parroquiasanjuanbosco.do
SUMMARY:Renovación votos matrimoniales 10-20 años
DESCRIPTION:
URL:https://parroquiasanjuanbosco.do/event/renovacion-votos-matrimoniales-10-20-anos/
LOCATION:Parroquia Don Bosco\, Calle San Juan Bosco esquina Dr. Delgado\, San Juan Bosco\, Santo Domingo\, Distrito Nacional\, 10201\, República Dominicana
ATTACH;FMTTYPE=image/jpeg:https://parroquiasanjuanbosco.do/wp-content/uploads/2022/10/0740e7d28591eefc8145c3db5d433c67.jpg
END:VEVENT
BEGIN:VEVENT
DTSTART;VALUE=DATE:20221113
DTEND;VALUE=DATE:20221114
DTSTAMP:20260421T153659
CREATED:20221026T183243Z
LAST-MODIFIED:20221026T183243Z
UID:3119-1668297600-1668383999@parroquiasanjuanbosco.do
SUMMARY:Jornada del Pobre
DESCRIPTION:
URL:https://parroquiasanjuanbosco.do/event/jornada-del-pobre/
LOCATION:Parroquia Don Bosco\, Calle San Juan Bosco esquina Dr. Delgado\, San Juan Bosco\, Santo Domingo\, Distrito Nacional\, 10201\, República Dominicana
ATTACH;FMTTYPE=image/jpeg:https://parroquiasanjuanbosco.do/wp-content/uploads/2022/10/istock-171285848-977028-1619035776.jpg
END:VEVENT
BEGIN:VEVENT
DTSTART;VALUE=DATE:20221119
DTEND;VALUE=DATE:20221120
DTSTAMP:20260421T153659
CREATED:20221026T183347Z
LAST-MODIFIED:20221026T183347Z
UID:3122-1668816000-1668902399@parroquiasanjuanbosco.do
SUMMARY:Encuentros Consejos de pastoral Familiar
DESCRIPTION:
URL:https://parroquiasanjuanbosco.do/event/encuentros-consejos-de-pastoral-familiar/
LOCATION:Parroquia Don Bosco\, Calle San Juan Bosco esquina Dr. Delgado\, San Juan Bosco\, Santo Domingo\, Distrito Nacional\, 10201\, República Dominicana
ATTACH;FMTTYPE=image/jpeg:https://parroquiasanjuanbosco.do/wp-content/uploads/2022/10/shutterstock_437807485-1-scaled-1.jpg
END:VEVENT
BEGIN:VEVENT
DTSTART;VALUE=DATE:20221120
DTEND;VALUE=DATE:20221121
DTSTAMP:20260421T153659
CREATED:20221026T183427Z
LAST-MODIFIED:20221026T183427Z
UID:3125-1668902400-1668988799@parroquiasanjuanbosco.do
SUMMARY:SOMENIDAD DE CRISTO REY DEL UNIVERSO.
DESCRIPTION:
URL:https://parroquiasanjuanbosco.do/event/somenidad-de-cristo-rey-del-universo/
LOCATION:Parroquia Don Bosco\, Calle San Juan Bosco esquina Dr. Delgado\, San Juan Bosco\, Santo Domingo\, Distrito Nacional\, 10201\, República Dominicana
ATTACH;FMTTYPE=image/jpeg:https://parroquiasanjuanbosco.do/wp-content/uploads/2022/10/Cristo-Rey.jpg
END:VEVENT
BEGIN:VEVENT
DTSTART;VALUE=DATE:20221120
DTEND;VALUE=DATE:20221121
DTSTAMP:20260421T153659
CREATED:20221026T183643Z
LAST-MODIFIED:20221026T183643Z
UID:3128-1668902400-1668988799@parroquiasanjuanbosco.do
SUMMARY:Renovación votos matrimoniales 20-30 años.
DESCRIPTION:
URL:https://parroquiasanjuanbosco.do/event/renovacion-votos-matrimoniales-20-30-anos/
LOCATION:Parroquia Don Bosco\, Calle San Juan Bosco esquina Dr. Delgado\, San Juan Bosco\, Santo Domingo\, Distrito Nacional\, 10201\, República Dominicana
ATTACH;FMTTYPE=image/jpeg:https://parroquiasanjuanbosco.do/wp-content/uploads/2022/10/sposo-in-fuga.jpg
END:VEVENT
BEGIN:VEVENT
DTSTART;VALUE=DATE:20221120
DTEND;VALUE=DATE:20221121
DTSTAMP:20260421T153659
CREATED:20221026T184343Z
LAST-MODIFIED:20221026T184343Z
UID:3135-1668902400-1668988799@parroquiasanjuanbosco.do
SUMMARY:Renovación votos matrimoniales 30 años en adelante
DESCRIPTION:
URL:https://parroquiasanjuanbosco.do/event/renovacion-votos-matrimoniales-30-anos-en-adelante/
LOCATION:Parroquia Don Bosco\, Calle San Juan Bosco esquina Dr. Delgado\, San Juan Bosco\, Santo Domingo\, Distrito Nacional\, 10201\, República Dominicana
ATTACH;FMTTYPE=image/jpeg:https://parroquiasanjuanbosco.do/wp-content/uploads/2022/10/img_fmartinez_20161125-204709_imagenes_lv_getty_gettyimages-86079878-kpKI-U4392786520JdG-992x558@LaVanguardia-Web.jpg
END:VEVENT
BEGIN:VEVENT
DTSTART;VALUE=DATE:20221203
DTEND;VALUE=DATE:20221204
DTSTAMP:20260421T153659
CREATED:20221026T184512Z
LAST-MODIFIED:20221026T184512Z
UID:3143-1670025600-1670111999@parroquiasanjuanbosco.do
SUMMARY:Retiro Trimestral
DESCRIPTION:
URL:https://parroquiasanjuanbosco.do/event/retiro-trimestral-3/
LOCATION:Parroquia Don Bosco\, Calle San Juan Bosco esquina Dr. Delgado\, San Juan Bosco\, Santo Domingo\, Distrito Nacional\, 10201\, República Dominicana
ATTACH;FMTTYPE=image/jpeg:https://parroquiasanjuanbosco.do/wp-content/uploads/2022/10/AdobeStock_122829971.jpg
END:VEVENT
END:VCALENDAR