BEGIN:VCALENDAR
VERSION:2.0
PRODID:-//Parroquia San Juan Bosco - ECPv5.14.2.1//NONSGML v1.0//EN
CALSCALE:GREGORIAN
METHOD:PUBLISH
X-WR-CALNAME:Parroquia San Juan Bosco
X-ORIGINAL-URL:https://parroquiasanjuanbosco.do
X-WR-CALDESC:Events for Parroquia San Juan Bosco
REFRESH-INTERVAL;VALUE=DURATION:PT1H
X-Robots-Tag:noindex
X-PUBLISHED-TTL:PT1H
BEGIN:VTIMEZONE
TZID:UTC
BEGIN:STANDARD
TZOFFSETFROM:+0000
TZOFFSETTO:+0000
TZNAME:UTC
DTSTART:20240101T000000
END:STANDARD
END:VTIMEZONE
BEGIN:VEVENT
DTSTART;TZID=UTC:20240122T183000
DTEND;TZID=UTC:20240131T200000
DTSTAMP:20260419T111637
CREATED:20240130T231457Z
LAST-MODIFIED:20240130T231457Z
UID:3806-1705948200-1706731200@parroquiasanjuanbosco.do
SUMMARY:Patronales Don Bosco 2024
DESCRIPTION:
URL:https://parroquiasanjuanbosco.do/event/patronales-don-bosco-2024/
LOCATION:Parroquia Don Bosco\, Calle San Juan Bosco esquina Dr. Delgado\, San Juan Bosco\, Santo Domingo\, Distrito Nacional\, 10201\, República Dominicana
ATTACH;FMTTYPE=image/png:https://parroquiasanjuanbosco.do/wp-content/uploads/2024/01/imagen_2024-01-30_191404322.png
ORGANIZER;CN="P%C3%A1rroco":MAILTO:parroco@parroquiasanjuanbosco.do
END:VEVENT
BEGIN:VEVENT
DTSTART;TZID=UTC:20240128T093000
DTEND;TZID=UTC:20240128T200000
DTSTAMP:20260419T111637
CREATED:20240131T003627Z
LAST-MODIFIED:20240131T003627Z
UID:3879-1706434200-1706472000@parroquiasanjuanbosco.do
SUMMARY:7mo. Día Novena "Soñar en Comunidad"
DESCRIPTION:
URL:https://parroquiasanjuanbosco.do/event/7mo-dia-novena-sonar-en-comunidad/
LOCATION:Parroquia Don Bosco\, Calle San Juan Bosco esquina Dr. Delgado\, San Juan Bosco\, Santo Domingo\, Distrito Nacional\, 10201\, República Dominicana
CATEGORIES:misas
ATTACH;FMTTYPE=image/jpeg:https://parroquiasanjuanbosco.do/wp-content/uploads/2024/01/WhatsApp-Image-2024-01-29-at-2.17.37-PM.jpeg
ORGANIZER;CN="P%C3%A1rroco":MAILTO:parroco@parroquiasanjuanbosco.do
END:VEVENT
END:VCALENDAR