BEGIN:VCALENDAR
VERSION:2.0
PRODID:-//Parroquia San Juan Bosco - ECPv5.14.2.1//NONSGML v1.0//EN
CALSCALE:GREGORIAN
METHOD:PUBLISH
X-WR-CALNAME:Parroquia San Juan Bosco
X-ORIGINAL-URL:https://parroquiasanjuanbosco.do
X-WR-CALDESC:Events for Parroquia San Juan Bosco
REFRESH-INTERVAL;VALUE=DURATION:PT1H
X-Robots-Tag:noindex
X-PUBLISHED-TTL:PT1H
BEGIN:VTIMEZONE
TZID:UTC
BEGIN:STANDARD
TZOFFSETFROM:+0000
TZOFFSETTO:+0000
TZNAME:UTC
DTSTART:20230101T000000
END:STANDARD
END:VTIMEZONE
BEGIN:VEVENT
DTSTART;TZID=UTC:20230511T190000
DTEND;TZID=UTC:20230803T203000
DTSTAMP:20260421T003454
CREATED:20230510T202520Z
LAST-MODIFIED:20230510T202520Z
UID:3251-1683831600-1691094600@parroquiasanjuanbosco.do
SUMMARY:Inicio Talleres Dominicana se transforma
DESCRIPTION:Dominicana Se Transforma es la expresión local de la iniciativa Transformación País de Maxwell Leadership Foundation. Creemos que apostar al crecimiento personal de nuestra gente\, al cultivar un liderazgo transformacional basado en buenos valores y habilidades blandas\, impulsará a nuestra nación en una dirección que todos anhelamos. \nHemos diseñado programas basados en la metodología de mesas redondas\, la cual ha sido aplicada en algunas de las universidades más reputadas del mundo con sobrado éxito. Nuestros programas ya han impactado millones de vidas en países que han abrazado esta iniciativa desde el 2003. \nComo nuestro objetivo es nacional\, nos proponemos alcanzar todos los rincones de nuestro territorio\, así como todas las clases sociales\, intereses\, credos\, etc.\, con el firme propósito de fomentar un ambiente colaborativo de crecimiento mutuo.
URL:https://parroquiasanjuanbosco.do/event/inicio-talleres-dominicana-se-transforma/
LOCATION:Parroquia Don Bosco\, Calle San Juan Bosco esquina Dr. Delgado\, San Juan Bosco\, Santo Domingo\, Distrito Nacional\, 10201\, República Dominicana
ATTACH;FMTTYPE=image/jpeg:https://parroquiasanjuanbosco.do/wp-content/uploads/2023/05/Dominicana-se-transforma.jpeg
END:VEVENT
BEGIN:VEVENT
DTSTART;TZID=UTC:20230525T080000
DTEND;TZID=UTC:20230525T170000
DTSTAMP:20260421T003454
CREATED:20230525T131340Z
LAST-MODIFIED:20230525T131340Z
UID:3272-1685001600-1685034000@parroquiasanjuanbosco.do
SUMMARY:
DESCRIPTION:Vía Lucis Zona Colonial 2023. Concluimos el tiempo de Pascua con la alegría del resucitado en medio de su pueblo.
URL:https://parroquiasanjuanbosco.do/event/3272/
LOCATION:Parroquia Don Bosco\, Calle San Juan Bosco esquina Dr. Delgado\, San Juan Bosco\, Santo Domingo\, Distrito Nacional\, 10201\, República Dominicana
ATTACH;FMTTYPE=image/jpeg:https://parroquiasanjuanbosco.do/wp-content/uploads/2023/05/Via-Lucis-Zonal.jpeg
END:VEVENT
END:VCALENDAR