BEGIN:VCALENDAR
VERSION:2.0
PRODID:-//Parroquia San Juan Bosco - ECPv5.14.2.1//NONSGML v1.0//EN
CALSCALE:GREGORIAN
METHOD:PUBLISH
X-WR-CALNAME:Parroquia San Juan Bosco
X-ORIGINAL-URL:https://parroquiasanjuanbosco.do
X-WR-CALDESC:Events for Parroquia San Juan Bosco
REFRESH-INTERVAL;VALUE=DURATION:PT1H
X-Robots-Tag:noindex
X-PUBLISHED-TTL:PT1H
BEGIN:VTIMEZONE
TZID:UTC
BEGIN:STANDARD
TZOFFSETFROM:+0000
TZOFFSETTO:+0000
TZNAME:UTC
DTSTART:20230101T000000
END:STANDARD
END:VTIMEZONE
BEGIN:VEVENT
DTSTART;TZID=UTC:20230511T190000
DTEND;TZID=UTC:20230803T203000
DTSTAMP:20260419T105435
CREATED:20230510T202520Z
LAST-MODIFIED:20230510T202520Z
UID:3251-1683831600-1691094600@parroquiasanjuanbosco.do
SUMMARY:Inicio Talleres Dominicana se transforma
DESCRIPTION:Dominicana Se Transforma es la expresión local de la iniciativa Transformación País de Maxwell Leadership Foundation. Creemos que apostar al crecimiento personal de nuestra gente\, al cultivar un liderazgo transformacional basado en buenos valores y habilidades blandas\, impulsará a nuestra nación en una dirección que todos anhelamos. \nHemos diseñado programas basados en la metodología de mesas redondas\, la cual ha sido aplicada en algunas de las universidades más reputadas del mundo con sobrado éxito. Nuestros programas ya han impactado millones de vidas en países que han abrazado esta iniciativa desde el 2003. \nComo nuestro objetivo es nacional\, nos proponemos alcanzar todos los rincones de nuestro territorio\, así como todas las clases sociales\, intereses\, credos\, etc.\, con el firme propósito de fomentar un ambiente colaborativo de crecimiento mutuo.
URL:https://parroquiasanjuanbosco.do/event/inicio-talleres-dominicana-se-transforma/
LOCATION:Parroquia Don Bosco\, Calle San Juan Bosco esquina Dr. Delgado\, San Juan Bosco\, Santo Domingo\, Distrito Nacional\, 10201\, República Dominicana
ATTACH;FMTTYPE=image/jpeg:https://parroquiasanjuanbosco.do/wp-content/uploads/2023/05/Dominicana-se-transforma.jpeg
END:VEVENT
BEGIN:VEVENT
DTSTART;VALUE=DATE:20230519
DTEND;VALUE=DATE:20230522
DTSTAMP:20260419T105435
CREATED:20230510T204540Z
LAST-MODIFIED:20230510T204540Z
UID:3254-1684454400-1684713599@parroquiasanjuanbosco.do
SUMMARY:Retiro Pequeñas Comunidades de Discípulos Misioneros
DESCRIPTION:A conclusión del manual «Vivencia y Profundización del Kerigma» nuestras pequeñas comunidades hacen su retiro de compromiso para iniciar su segunda etapa de formación. Es un tiempo de renovación y avivamiento del compromiso cristiano de cada miembro de la comunidad con el Señor y con los hermanos que Él mismo les ha dado como compañeros de camino.
URL:https://parroquiasanjuanbosco.do/event/retiro-pequenas-comunidades-de-discipulos-misioneros/
LOCATION:Distrito Nacional
ATTACH;FMTTYPE=image/jpeg:https://parroquiasanjuanbosco.do/wp-content/uploads/2023/05/Kergma-scaled.jpg
END:VEVENT
BEGIN:VEVENT
DTSTART;TZID=UTC:20230520T150000
DTEND;TZID=UTC:20230520T170000
DTSTAMP:20260419T105435
CREATED:20230510T223401Z
LAST-MODIFIED:20230510T223401Z
UID:3259-1684594800-1684602000@parroquiasanjuanbosco.do
SUMMARY:Sacramento de la Confirmación
DESCRIPTION:Luego de un año de catequesis los jóvenes y adolescentes del Colegio Domínico Español\, Colegio Don Bosco y Parroquia San Juan Bosco piden a Mons. Louis Kébreau que les confiera el sacramento de la Confirmación. Con el mismo asumen la responsabilidad de vivir su bautismo en la Iglesia y la sociedad con la fuerza y la luz del Espíritu Santo que reciben.
URL:https://parroquiasanjuanbosco.do/event/sacramento-de-la-confirmacion/
LOCATION:Parroquia Don Bosco\, Calle San Juan Bosco esquina Dr. Delgado\, San Juan Bosco\, Santo Domingo\, Distrito Nacional\, 10201\, República Dominicana
CATEGORIES:misas
ATTACH;FMTTYPE=image/jpeg:https://parroquiasanjuanbosco.do/wp-content/uploads/2023/05/Confirmacion.jpg
END:VEVENT
END:VCALENDAR