BEGIN:VCALENDAR
VERSION:2.0
PRODID:-//Parroquia San Juan Bosco - ECPv5.14.2.1//NONSGML v1.0//EN
CALSCALE:GREGORIAN
METHOD:PUBLISH
X-WR-CALNAME:Parroquia San Juan Bosco
X-ORIGINAL-URL:https://parroquiasanjuanbosco.do
X-WR-CALDESC:Events for Parroquia San Juan Bosco
REFRESH-INTERVAL;VALUE=DURATION:PT1H
X-Robots-Tag:noindex
X-PUBLISHED-TTL:PT1H
BEGIN:VTIMEZONE
TZID:UTC
BEGIN:STANDARD
TZOFFSETFROM:+0000
TZOFFSETTO:+0000
TZNAME:UTC
DTSTART:20220101T000000
END:STANDARD
END:VTIMEZONE
BEGIN:VEVENT
DTSTART;VALUE=DATE:20221001
DTEND;VALUE=DATE:20221101
DTSTAMP:20260421T152409
CREATED:20220906T200432Z
LAST-MODIFIED:20220906T200432Z
UID:2970-1664582400-1667260799@parroquiasanjuanbosco.do
SUMMARY:Octubre: Mes del rosario
DESCRIPTION:
URL:https://parroquiasanjuanbosco.do/event/octubre-mes-del-rosario/
LOCATION:Parroquia Don Bosco\, Calle San Juan Bosco esquina Dr. Delgado\, San Juan Bosco\, Santo Domingo\, Distrito Nacional\, 10201\, República Dominicana
ATTACH;FMTTYPE=image/jpeg:https://parroquiasanjuanbosco.do/wp-content/uploads/2022/09/formacao_como-rezar-o-terco.jpg
END:VEVENT
BEGIN:VEVENT
DTSTART;TZID=UTC:20221001T000000
DTEND;TZID=UTC:20221031T000000
DTSTAMP:20260421T152409
CREATED:20220930T211747Z
LAST-MODIFIED:20220930T211747Z
UID:3003-1664582400-1667174400@parroquiasanjuanbosco.do
SUMMARY:Octubre: Mes del rosario
DESCRIPTION:
URL:https://parroquiasanjuanbosco.do/event/octubre-mes-del-rosario-2/
LOCATION:Parroquia Don Bosco\, Calle San Juan Bosco esquina Dr. Delgado\, San Juan Bosco\, Santo Domingo\, Distrito Nacional\, 10201\, República Dominicana
ATTACH;FMTTYPE=image/jpeg:https://parroquiasanjuanbosco.do/wp-content/uploads/2022/09/2171455.jpeg
END:VEVENT
END:VCALENDAR